BEGIN:VCALENDAR
VERSION:2.0
PRODID:-//ZŠ a MŠ Chlebičov - ECPv6.15.20//NONSGML v1.0//EN
CALSCALE:GREGORIAN
METHOD:PUBLISH
X-WR-CALNAME:ZŠ a MŠ Chlebičov
X-ORIGINAL-URL:https://skolachlebicov.cz
X-WR-CALDESC:Akce na ZŠ a MŠ Chlebičov
REFRESH-INTERVAL;VALUE=DURATION:PT1H
X-Robots-Tag:noindex
X-PUBLISHED-TTL:PT1H
BEGIN:VTIMEZONE
TZID:UTC
BEGIN:STANDARD
TZOFFSETFROM:+0000
TZOFFSETTO:+0000
TZNAME:UTC
DTSTART:20250101T000000
END:STANDARD
END:VTIMEZONE
BEGIN:VEVENT
DTSTART;TZID=UTC:20260401T080000
DTEND;TZID=UTC:20260420T190000
DTSTAMP:20260420T170522
CREATED:20260401T134025Z
LAST-MODIFIED:20260401T134025Z
UID:14801-1775030400-1776711600@skolachlebicov.cz
SUMMARY:Konkurz
DESCRIPTION:
URL:https://skolachlebicov.cz/akce/konkurz/
CATEGORIES:Aktuality MŠ,Aktuality ZŠ - Připravujeme,Mateřská škola,Připravujeme,Školní družina,Základní škola
END:VEVENT
BEGIN:VEVENT
DTSTART;TZID=UTC:20260407T080000
DTEND;TZID=UTC:20260720T170000
DTSTAMP:20260420T170522
CREATED:20260407T112316Z
LAST-MODIFIED:20260407T112317Z
UID:14804-1775548800-1784566800@skolachlebicov.cz
SUMMARY:Příměstský tábor
DESCRIPTION:
URL:https://skolachlebicov.cz/akce/primestsky-tabor/
CATEGORIES:Aktuality MŠ,Aktuality ZŠ - Připravujeme,Mateřská škola,Základní škola
END:VEVENT
BEGIN:VEVENT
DTSTART;TZID=UTC:20260408T080000
DTEND;TZID=UTC:20260430T170000
DTSTAMP:20260420T170522
CREATED:20260408T124658Z
LAST-MODIFIED:20260408T124944Z
UID:14807-1775635200-1777568400@skolachlebicov.cz
SUMMARY:Rozhodnutí o přijetí dětí k předškolnímu vzdělávání ve školním roce 2026/2027
DESCRIPTION:
URL:https://skolachlebicov.cz/akce/rozhodnuti-o-prijeti-deti-k-predskolnimu-vzdelavani-ve-skolnim-roce-2026-2027/
CATEGORIES:Aktuality MŠ,Aktuality ZŠ - Připravujeme,Mateřská škola,Základní škola
END:VEVENT
END:VCALENDAR